BEGIN:VCALENDAR
VERSION:2.0
PRODID:-//Friends of Nelson County - ECPv6.15.1.1//NONSGML v1.0//EN
CALSCALE:GREGORIAN
METHOD:PUBLISH
X-ORIGINAL-URL:https://blog.friendsofnelson.com
X-WR-CALDESC:Events for Friends of Nelson County
REFRESH-INTERVAL;VALUE=DURATION:PT1H
X-Robots-Tag:noindex
X-PUBLISHED-TTL:PT1H
BEGIN:VTIMEZONE
TZID:America/New_York
BEGIN:DAYLIGHT
TZOFFSETFROM:-0500
TZOFFSETTO:-0400
TZNAME:EDT
DTSTART:20150308T070000
END:DAYLIGHT
BEGIN:STANDARD
TZOFFSETFROM:-0400
TZOFFSETTO:-0500
TZNAME:EST
DTSTART:20151101T060000
END:STANDARD
END:VTIMEZONE
BEGIN:VEVENT
DTSTART;TZID=America/New_York:20150223T070000
DTEND;TZID=America/New_York:20150223T210000
DTSTAMP:20260419T111534
CREATED:20151019T213652Z
LAST-MODIFIED:20151019T213652Z
UID:4038-1424674800-1424725200@blog.friendsofnelson.com
SUMMARY:Virginia People's Climate March
DESCRIPTION:Monday\, February 23: Virginia People’s Climate March\, Richmond. A rally on the Richmond Capitol grounds to demand environmental justice from Governor McAuliffe and the Virginia General Assembly as they close their session. See the Facebook page for this event for more information and photos. Additional photos of the event are here.
URL:https://blog.friendsofnelson.com/calendar-event/virginia-peoples-climate-march/
LOCATION:Virginia State Capitol\, 100 Bank St\, Richmond\, VA\, United States
CATEGORIES:Protest,Rally
END:VEVENT
END:VCALENDAR